DSET rh.3hr.1x1.25.2004
TITLE respiration data calculated from monthly CASA_GSFC and the GEOS4 meteorology data
UNDEF 999.
XDEF 288 LINEAR 0 1.25
YDEF 181 LINEAR -90 1
ZDEF 1 LEVELS 1
TDEF 100000 LINEAR 1:30z01jan2004 3hr
*
VARS 1
rh 0 99 3-hrly respiration
ENDVARS
